BEGIN:VCALENDAR
VERSION:2.0
PRODID:-//Portalban tourisme – site officiel - ECPv6.0.13.1//NONSGML v1.0//EN
CALSCALE:GREGORIAN
METHOD:PUBLISH
X-ORIGINAL-URL:https://www.portalbantourisme.com
X-WR-CALDESC:évènements pour Portalban tourisme – site officiel
REFRESH-INTERVAL;VALUE=DURATION:PT1H
X-Robots-Tag:noindex
X-PUBLISHED-TTL:PT1H
BEGIN:VTIMEZONE
TZID:Europe/Paris
BEGIN:DAYLIGHT
TZOFFSETFROM:+0100
TZOFFSETTO:+0200
TZNAME:CEST
DTSTART:20230326T010000
END:DAYLIGHT
BEGIN:STANDARD
TZOFFSETFROM:+0200
TZOFFSETTO:+0100
TZNAME:CET
DTSTART:20231029T010000
END:STANDARD
END:VTIMEZONE
BEGIN:VEVENT
DTSTART;VALUE=DATE:20230730
DTEND;VALUE=DATE:20230807
DTSTAMP:20260425T155429
CREATED:20230515T150206Z
LAST-MODIFIED:20230515T150206Z
UID:9543-1690675200-1691366399@www.portalbantourisme.com
SUMMARY:Village lacustre de Gletterens
DESCRIPTION:Rassemblement préhistorique.\n8 jours durant\, des passionnés de préhistoire se rassemblent pour échanger des connaissances et des techniques préhistoriques. Le public est bienvenu pour observer et questionner ces acteurs.
URL:https://www.portalbantourisme.com/event/village-lacustre-de-gletterens-13/
END:VEVENT
BEGIN:VEVENT
DTSTART;VALUE=DATE:20230801
DTEND;VALUE=DATE:20230802
DTSTAMP:20260425T155429
CREATED:20230515T150558Z
LAST-MODIFIED:20230515T150558Z
UID:9553-1690848000-1690934399@www.portalbantourisme.com
SUMMARY:Village lacustre de Gletterens
DESCRIPTION:Voyage dans le temps.\nQu’était la vie des habitants de cette région un 1er août ?\nLe voyage dans le temps vous propose de suivre un guide qui va commenter trois scènes de la vie quotidienne préhistorique interprétées par\, au minimum\, trois acteurs costumés. Une au Mésolithique\, une deuxième au Néolithique\, la dernière à l’Age du bronze.\nSur réservation\, 076 381 12 23.
URL:https://www.portalbantourisme.com/event/village-lacustre-de-gletterens-14/
END:VEVENT
BEGIN:VEVENT
DTSTART;TZID=Europe/Paris:20230801T100000
DTEND;TZID=Europe/Paris:20230801T220000
DTSTAMP:20260425T155429
CREATED:20230515T150428Z
LAST-MODIFIED:20230515T150428Z
UID:9549-1690884000-1690927200@www.portalbantourisme.com
SUMMARY:Amicale de la Voile de Portalban
DESCRIPTION:L’AVP tiendra un stand avec boissons et petite restauration sur la jetée du port de Portalban entre 10h et 22h.\nPossibilité de faire une initiation à la voile pour les enfants et les jeunes.
URL:https://www.portalbantourisme.com/event/amicale-de-la-voile-de-portalban/
END:VEVENT
BEGIN:VEVENT
DTSTART;TZID=Europe/Paris:20230801T200000
DTEND;TZID=Europe/Paris:20230801T200000
DTSTAMP:20260425T155429
CREATED:20230515T150354Z
LAST-MODIFIED:20230515T150354Z
UID:9547-1690920000-1690920000@www.portalbantourisme.com
SUMMARY:Fête nationale du 1er août à la plage de Portalban
DESCRIPTION:Dès 20h\, partie officielle.\nRestauration\, animations au bord du lac et sous cantine.\nOrganisation : FC Portalban-Gletterens avec le soutien de la Commune de Delley-Portalban.
URL:https://www.portalbantourisme.com/event/fete-nationale-du-1er-aout-a-la-plage-de-portalban/
END:VEVENT
END:VCALENDAR