BEGIN:VCALENDAR
VERSION:2.0
PRODID:-//Portalban tourisme – site officiel - ECPv6.0.13.1//NONSGML v1.0//EN
CALSCALE:GREGORIAN
METHOD:PUBLISH
X-WR-CALNAME:Portalban tourisme – site officiel
X-ORIGINAL-URL:https://www.portalbantourisme.com
X-WR-CALDESC:évènements pour Portalban tourisme – site officiel
REFRESH-INTERVAL;VALUE=DURATION:PT1H
X-Robots-Tag:noindex
X-PUBLISHED-TTL:PT1H
BEGIN:VTIMEZONE
TZID:Europe/Paris
BEGIN:DAYLIGHT
TZOFFSETFROM:+0100
TZOFFSETTO:+0200
TZNAME:CEST
DTSTART:20230326T010000
END:DAYLIGHT
BEGIN:STANDARD
TZOFFSETFROM:+0200
TZOFFSETTO:+0100
TZNAME:CET
DTSTART:20231029T010000
END:STANDARD
END:VTIMEZONE
BEGIN:VEVENT
DTSTART;VALUE=DATE:20230901
DTEND;VALUE=DATE:20230904
DTSTAMP:20260425T155357
CREATED:20230515T151433Z
LAST-MODIFIED:20230515T151433Z
UID:9579-1693526400-1693785599@www.portalbantourisme.com
SUMMARY:Beach Bike Fest
DESCRIPTION:Rassemblement de motards.\nVendredi dès 19h\, concert de Ourselves suivi à 21h de Rammzeit – The Swiss Tribute of Rammstein.\nSamedi dès 19h\, concert de Jo Mettraux suivi dès 21h BACAS – AC / DC Tribute.\nBarbecue\, Fish’n chips\, bar Tonnelle\, Food Trucks\, Marché nomade\, Essais motos\, …
URL:https://www.portalbantourisme.com/event/beach-bike-fest/
END:VEVENT
END:VCALENDAR