BEGIN:VCALENDAR
VERSION:2.0
PRODID:-//Portalban tourisme – site officiel - ECPv6.0.13.1//NONSGML v1.0//EN
CALSCALE:GREGORIAN
METHOD:PUBLISH
X-ORIGINAL-URL:https://www.portalbantourisme.com
X-WR-CALDESC:évènements pour Portalban tourisme – site officiel
REFRESH-INTERVAL;VALUE=DURATION:PT1H
X-Robots-Tag:noindex
X-PUBLISHED-TTL:PT1H
BEGIN:VTIMEZONE
TZID:Europe/Paris
BEGIN:DAYLIGHT
TZOFFSETFROM:+0100
TZOFFSETTO:+0200
TZNAME:CEST
DTSTART:20230326T010000
END:DAYLIGHT
BEGIN:STANDARD
TZOFFSETFROM:+0200
TZOFFSETTO:+0100
TZNAME:CET
DTSTART:20231029T010000
END:STANDARD
END:VTIMEZONE
BEGIN:VEVENT
DTSTART;VALUE=DATE:20231007
DTEND;VALUE=DATE:20231008
DTSTAMP:20260425T174148
CREATED:20230515T151801Z
LAST-MODIFIED:20230515T151801Z
UID:9589-1696636800-1696723199@www.portalbantourisme.com
SUMMARY:Village lacustre de Gletterens
DESCRIPTION:Stage bronze : fabriquer un mouler et couler du bronze afin d’obtenir un objet (sur résevation).\nSur réservation\, maximum 5 personnes\, 076 381 12 23.
URL:https://www.portalbantourisme.com/event/village-lacustre-de-gletterens-22/
END:VEVENT
END:VCALENDAR