BEGIN:VCALENDAR
VERSION:2.0
PRODID:-//Portalban tourisme – site officiel - ECPv6.0.13.1//NONSGML v1.0//EN
CALSCALE:GREGORIAN
METHOD:PUBLISH
X-WR-CALNAME:Portalban tourisme – site officiel
X-ORIGINAL-URL:https://www.portalbantourisme.com
X-WR-CALDESC:évènements pour Portalban tourisme – site officiel
REFRESH-INTERVAL;VALUE=DURATION:PT1H
X-Robots-Tag:noindex
X-PUBLISHED-TTL:PT1H
BEGIN:VTIMEZONE
TZID:Europe/Paris
BEGIN:DAYLIGHT
TZOFFSETFROM:+0100
TZOFFSETTO:+0200
TZNAME:CEST
DTSTART:20240331T010000
END:DAYLIGHT
BEGIN:STANDARD
TZOFFSETFROM:+0200
TZOFFSETTO:+0100
TZNAME:CET
DTSTART:20241027T010000
END:STANDARD
END:VTIMEZONE
BEGIN:VEVENT
DTSTART;TZID=Europe/Paris:20240601T090000
DTEND;TZID=Europe/Paris:20240605T170000
DTSTAMP:20260424T014918
CREATED:20240528T142302Z
LAST-MODIFIED:20240528T142610Z
UID:9673-1717232400-1717606800@www.portalbantourisme.com
SUMMARY:Village lacustre de Gletterens
DESCRIPTION:Tannage et matières animales\, cinq jours autour du travail des matières animales en collaboration avec Alexis Albert : tannage\, couture\, outils en os et silex. \nDu 1er au 3 juin : tannage à la cervelle d’une peau de biche \nLes 4-5 juin : réalisation d’une sacoche en peau de pattes de cerf \nDe 5 à 12 participants de 9h à 17h
URL:https://www.portalbantourisme.com/event/village-lacustre-de-gletterens-26/
END:VEVENT
END:VCALENDAR