BEGIN:VCALENDAR
VERSION:2.0
PRODID:-//Portalban tourisme – site officiel - ECPv6.0.13.1//NONSGML v1.0//EN
CALSCALE:GREGORIAN
METHOD:PUBLISH
X-ORIGINAL-URL:https://www.portalbantourisme.com
X-WR-CALDESC:évènements pour Portalban tourisme – site officiel
REFRESH-INTERVAL;VALUE=DURATION:PT1H
X-Robots-Tag:noindex
X-PUBLISHED-TTL:PT1H
BEGIN:VTIMEZONE
TZID:Europe/Paris
BEGIN:DAYLIGHT
TZOFFSETFROM:+0100
TZOFFSETTO:+0200
TZNAME:CEST
DTSTART:20240331T010000
END:DAYLIGHT
BEGIN:STANDARD
TZOFFSETFROM:+0200
TZOFFSETTO:+0100
TZNAME:CET
DTSTART:20241027T010000
END:STANDARD
END:VTIMEZONE
BEGIN:VEVENT
DTSTART;VALUE=DATE:20240628
DTEND;VALUE=DATE:20240630
DTSTAMP:20260424T043346
CREATED:20240528T143017Z
LAST-MODIFIED:20240528T143120Z
UID:9683-1719532800-1719705599@www.portalbantourisme.com
SUMMARY:52e Memorial Sekulic – Tournoi de foot des juniors E-F-D\, FF13 et FF15
DESCRIPTION:Vendredi 21 juin : Cérémonie d’ouverture du Sekulic 2024 au pavillon principal présenté par 60 enfants de la gym de St-Aubin en accompagnement du Nyna Dubois Feat.jones en live \nSa 22 juin : Tournoi de 8h – Catégories E\, FF12 et dès 21h Live Music \nDi 23 juin : Tournoi de 8h – Catégories F \nVe 28 juin : Soupe de soutien dès 11h. Dès 21h Nina live in concert \nSa 29 juin : Tournoi de 8h – Catégories D\, FF15 et dès 20h – Cérémonie de fermeture \nOrganisation : FC Portalban-Gletterens/www.sekulic2024.ch
URL:https://www.portalbantourisme.com/event/52e-memorial-sekulic-tournoi-de-foot-des-juniors-e-f-d-ff13-et-ff15-copy/
END:VEVENT
BEGIN:VEVENT
DTSTART;TZID=Europe/Paris:20240629T090000
DTEND;TZID=Europe/Paris:20240630T170000
DTSTAMP:20260424T043346
CREATED:20240528T143150Z
LAST-MODIFIED:20240528T143150Z
UID:9685-1719651600-1719766800@www.portalbantourisme.com
SUMMARY:Village lacustre de Gletterens
DESCRIPTION:Outils de la Préhistoire – cours I \nFabrication de ciseaux à bois\, en os et en pierre\, emmanchés dans des segments de bois de cervidé et d’entamer la réalisation d’un bol ou d’une cuillère en bois\, le tout inspiré des vestiges archéologiques du Néolithique local. \nDe 3 à 6 participants de 9h à 17h
URL:https://www.portalbantourisme.com/event/village-lacustre-de-gletterens-28/
END:VEVENT
END:VCALENDAR