BEGIN:VCALENDAR
VERSION:2.0
PRODID:-//Portalban tourisme – site officiel - ECPv6.0.13.1//NONSGML v1.0//EN
CALSCALE:GREGORIAN
METHOD:PUBLISH
X-ORIGINAL-URL:https://www.portalbantourisme.com
X-WR-CALDESC:évènements pour Portalban tourisme – site officiel
REFRESH-INTERVAL;VALUE=DURATION:PT1H
X-Robots-Tag:noindex
X-PUBLISHED-TTL:PT1H
BEGIN:VTIMEZONE
TZID:Europe/Paris
BEGIN:DAYLIGHT
TZOFFSETFROM:+0100
TZOFFSETTO:+0200
TZNAME:CEST
DTSTART:20240331T010000
END:DAYLIGHT
BEGIN:STANDARD
TZOFFSETFROM:+0200
TZOFFSETTO:+0100
TZNAME:CET
DTSTART:20241027T010000
END:STANDARD
END:VTIMEZONE
BEGIN:VEVENT
DTSTART;VALUE=DATE:20240711
DTEND;VALUE=DATE:20240715
DTSTAMP:20260423T210741
CREATED:20240528T143546Z
LAST-MODIFIED:20240528T144123Z
UID:9695-1720656000-1721001599@www.portalbantourisme.com
SUMMARY:Fête de Jeunesse de Gletterens
DESCRIPTION:Jeudi : After work dès 18h et pesée du jambon \nVendredi : Souper de soutien suivi d’un concert puis bar\, tonnelle et snack \nSamedi : concert\, bar et tonnelle jusqu’à la fermeture. \nDimanche : Levée des danses et résultat de la pesée du jambon
URL:https://www.portalbantourisme.com/event/fete-de-jeunesse-de-gletterens-3/
END:VEVENT
END:VCALENDAR