BEGIN:VCALENDAR
VERSION:2.0
PRODID:-//Portalban tourisme – site officiel - ECPv6.0.13.1//NONSGML v1.0//EN
CALSCALE:GREGORIAN
METHOD:PUBLISH
X-WR-CALNAME:Portalban tourisme – site officiel
X-ORIGINAL-URL:https://www.portalbantourisme.com
X-WR-CALDESC:évènements pour Portalban tourisme – site officiel
REFRESH-INTERVAL;VALUE=DURATION:PT1H
X-Robots-Tag:noindex
X-PUBLISHED-TTL:PT1H
BEGIN:VTIMEZONE
TZID:Europe/Paris
BEGIN:DAYLIGHT
TZOFFSETFROM:+0100
TZOFFSETTO:+0200
TZNAME:CEST
DTSTART:20240331T010000
END:DAYLIGHT
BEGIN:STANDARD
TZOFFSETFROM:+0200
TZOFFSETTO:+0100
TZNAME:CET
DTSTART:20241027T010000
END:STANDARD
END:VTIMEZONE
BEGIN:VEVENT
DTSTART;VALUE=DATE:20240714
DTEND;VALUE=DATE:20240722
DTSTAMP:20260424T003228
CREATED:20240528T144309Z
LAST-MODIFIED:20240528T144309Z
UID:9701-1720915200-1721606399@www.portalbantourisme.com
SUMMARY:Semaine de la céramique au Village lacustre
DESCRIPTION:Pendant huit jours\, un groupe d’expérimentateurs/trices\, se composant d’étudiant-es en céramique\, de potiers-tières de carrière\, d’artisan-sanes d’autres corps de métier et de passionné-e-s\, se retrouveront afin de reproduire des poteries d’inspiration essentiellement néolithique et montées selon la technique du colombin ainsi que d’autres objets en terre cuite connus à la Préhistoire\, comme des statuettes. Sur réservation pour les participants
URL:https://www.portalbantourisme.com/event/semaine-de-la-ceramique-au-village-lacustre-2/
END:VEVENT
END:VCALENDAR