BEGIN:VCALENDAR
VERSION:2.0
PRODID:-//Portalban tourisme – site officiel - ECPv6.0.13.1//NONSGML v1.0//EN
CALSCALE:GREGORIAN
METHOD:PUBLISH
X-ORIGINAL-URL:https://www.portalbantourisme.com
X-WR-CALDESC:évènements pour Portalban tourisme – site officiel
REFRESH-INTERVAL;VALUE=DURATION:PT1H
X-Robots-Tag:noindex
X-PUBLISHED-TTL:PT1H
BEGIN:VTIMEZONE
TZID:Europe/Paris
BEGIN:DAYLIGHT
TZOFFSETFROM:+0100
TZOFFSETTO:+0200
TZNAME:CEST
DTSTART:20240331T010000
END:DAYLIGHT
BEGIN:STANDARD
TZOFFSETFROM:+0200
TZOFFSETTO:+0100
TZNAME:CET
DTSTART:20241027T010000
END:STANDARD
END:VTIMEZONE
BEGIN:VEVENT
DTSTART;TZID=Europe/Paris:20240724T210000
DTEND;TZID=Europe/Paris:20240724T233000
DTSTAMP:20260424T021831
CREATED:20240528T144500Z
LAST-MODIFIED:20240528T144500Z
UID:9707-1721854800-1721863800@www.portalbantourisme.com
SUMMARY:Soirée cinéma « Green Book : Sur les routes du Sud »\, de Peter Farelly (2018)
DESCRIPTION:Film biographique sur une tournée réalisée dans les États du Sud en 1962 par le pianiste noir Don Shirley et son chauffeur et garde du corps blanc Tony Vallelonga (dit Tony Lip). \nSous la tente à Portalban dès 21h. Organisation : Commission culturelle de la Commune de Delley-Portalban
URL:https://www.portalbantourisme.com/event/soiree-cinema-green-book-sur-les-routes-du-sud-de-peter-farelly-2018/
END:VEVENT
END:VCALENDAR