BEGIN:VCALENDAR
VERSION:2.0
PRODID:-//Portalban tourisme – site officiel - ECPv6.0.13.1//NONSGML v1.0//EN
CALSCALE:GREGORIAN
METHOD:PUBLISH
X-WR-CALNAME:Portalban tourisme – site officiel
X-ORIGINAL-URL:https://www.portalbantourisme.com
X-WR-CALDESC:évènements pour Portalban tourisme – site officiel
REFRESH-INTERVAL;VALUE=DURATION:PT1H
X-Robots-Tag:noindex
X-PUBLISHED-TTL:PT1H
BEGIN:VTIMEZONE
TZID:Europe/Paris
BEGIN:DAYLIGHT
TZOFFSETFROM:+0100
TZOFFSETTO:+0200
TZNAME:CEST
DTSTART:20240331T010000
END:DAYLIGHT
BEGIN:STANDARD
TZOFFSETFROM:+0200
TZOFFSETTO:+0100
TZNAME:CET
DTSTART:20241027T010000
END:STANDARD
END:VTIMEZONE
BEGIN:VEVENT
DTSTART;VALUE=DATE:20240921
DTEND;VALUE=DATE:20240922
DTSTAMP:20260423T132116
CREATED:20240528T145807Z
LAST-MODIFIED:20240528T145807Z
UID:9751-1726876800-1726963199@www.portalbantourisme.com
SUMMARY:Village lacustre de Gletterens
DESCRIPTION:Démonstration de cuisson de céramiques au feu et en fosse. ­Technique traditionnelle\, et certainement préhistorique.
URL:https://www.portalbantourisme.com/event/village-lacustre-de-gletterens-35/
END:VEVENT
BEGIN:VEVENT
DTSTART;VALUE=DATE:20240921
DTEND;VALUE=DATE:20240923
DTSTAMP:20260423T132116
CREATED:20240528T150314Z
LAST-MODIFIED:20240528T150314Z
UID:9753-1726876800-1727049599@www.portalbantourisme.com
SUMMARY:Village lacustre de Gletterens
DESCRIPTION:Réalisations de vanneries avec des essences sauvages locales (clématite\, noisetier\, tilleul\, …)\, en partie récoltées et préparées sur place et assemblées selon différentes techniques (tissage\, cordage\, couture\, …). Le choix des techniques et des matières premières varie selon les disponibilités matérielles. Les deux cours de vannerie proposés chaque année ne sont pas identiques mais complémentaires. \nDe 4 à 12 participants
URL:https://www.portalbantourisme.com/event/village-lacustre-de-gletterens-36/
END:VEVENT
END:VCALENDAR