BEGIN:VCALENDAR
VERSION:2.0
PRODID:-//Portalban tourisme – site officiel - ECPv6.0.13.1//NONSGML v1.0//EN
CALSCALE:GREGORIAN
METHOD:PUBLISH
X-ORIGINAL-URL:https://www.portalbantourisme.com
X-WR-CALDESC:évènements pour Portalban tourisme – site officiel
REFRESH-INTERVAL;VALUE=DURATION:PT1H
X-Robots-Tag:noindex
X-PUBLISHED-TTL:PT1H
BEGIN:VTIMEZONE
TZID:Europe/Paris
BEGIN:DAYLIGHT
TZOFFSETFROM:+0100
TZOFFSETTO:+0200
TZNAME:CEST
DTSTART:20240331T010000
END:DAYLIGHT
BEGIN:STANDARD
TZOFFSETFROM:+0200
TZOFFSETTO:+0100
TZNAME:CET
DTSTART:20241027T010000
END:STANDARD
END:VTIMEZONE
BEGIN:VEVENT
DTSTART;VALUE=DATE:20241005
DTEND;VALUE=DATE:20241006
DTSTAMP:20260423T225224
CREATED:20240528T150345Z
LAST-MODIFIED:20240528T150345Z
UID:9755-1728086400-1728172799@www.portalbantourisme.com
SUMMARY:Village lacustre de Gletterens
DESCRIPTION:Stage bronze – Apprendre à fabriquer un moule en sable\, attiser le feu et fondre du bronze puis le couler dans le moule afin d’obtenir un objet. \nSur réservation\, maximum 5 personnes (dès 16 ans)
URL:https://www.portalbantourisme.com/event/village-lacustre-de-gletterens-37/
END:VEVENT
END:VCALENDAR