BEGIN:VCALENDAR
VERSION:2.0
PRODID:-//Portalban tourisme – site officiel - ECPv6.0.13.1//NONSGML v1.0//EN
CALSCALE:GREGORIAN
METHOD:PUBLISH
X-ORIGINAL-URL:https://www.portalbantourisme.com
X-WR-CALDESC:évènements pour Portalban tourisme – site officiel
REFRESH-INTERVAL;VALUE=DURATION:PT1H
X-Robots-Tag:noindex
X-PUBLISHED-TTL:PT1H
BEGIN:VTIMEZONE
TZID:Europe/Paris
BEGIN:DAYLIGHT
TZOFFSETFROM:+0100
TZOFFSETTO:+0200
TZNAME:CEST
DTSTART:20240331T010000
END:DAYLIGHT
BEGIN:STANDARD
TZOFFSETFROM:+0200
TZOFFSETTO:+0100
TZNAME:CET
DTSTART:20241027T010000
END:STANDARD
END:VTIMEZONE
BEGIN:VEVENT
DTSTART;TZID=Europe/Paris:20241102T090000
DTEND;TZID=Europe/Paris:20241103T170000
DTSTAMP:20260423T084129
CREATED:20240528T150933Z
LAST-MODIFIED:20240528T150933Z
UID:9771-1730538000-1730653200@www.portalbantourisme.com
SUMMARY:Village lacustre de Gletterens
DESCRIPTION:Outils de la Préhistoire – cours II \nFabrication des outils de pêche : hameçons en os avec leur ligne\, harpon à tête en bois de cerf et petit filet ou épuisette\, le tout inspiré des vestiges archéologiques du Néolithique local. \nDe 3 à 6 participants de 9h à 17h
URL:https://www.portalbantourisme.com/event/village-lacustre-de-gletterens-43/
END:VEVENT
END:VCALENDAR