BEGIN:VCALENDAR
VERSION:2.0
PRODID:-//Portalban tourisme – site officiel - ECPv6.0.13.1//NONSGML v1.0//EN
CALSCALE:GREGORIAN
METHOD:PUBLISH
X-ORIGINAL-URL:https://www.portalbantourisme.com
X-WR-CALDESC:évènements pour Portalban tourisme – site officiel
REFRESH-INTERVAL;VALUE=DURATION:PT1H
X-Robots-Tag:noindex
X-PUBLISHED-TTL:PT1H
BEGIN:VTIMEZONE
TZID:Europe/Paris
BEGIN:DAYLIGHT
TZOFFSETFROM:+0100
TZOFFSETTO:+0200
TZNAME:CEST
DTSTART:20250330T010000
END:DAYLIGHT
BEGIN:STANDARD
TZOFFSETFROM:+0200
TZOFFSETTO:+0100
TZNAME:CET
DTSTART:20251026T010000
END:STANDARD
END:VTIMEZONE
BEGIN:VEVENT
DTSTART;TZID=Europe/Paris:20250523T090000
DTEND;TZID=Europe/Paris:20250525T180000
DTSTAMP:20260422T072034
CREATED:20250512T150949Z
LAST-MODIFIED:20250512T150949Z
UID:9830-1747990800-1748196000@www.portalbantourisme.com
SUMMARY:SKA Kite foil Swiss Championship
DESCRIPTION:A la plage de Portalban\nOrganisation : Société Suisse Kitesurf
URL:https://www.portalbantourisme.com/event/ska-kite-foil-swiss-championship/
END:VEVENT
END:VCALENDAR