BEGIN:VCALENDAR
VERSION:2.0
PRODID:-//Portalban tourisme – site officiel - ECPv6.0.13.1//NONSGML v1.0//EN
CALSCALE:GREGORIAN
METHOD:PUBLISH
X-WR-CALNAME:Portalban tourisme – site officiel
X-ORIGINAL-URL:https://www.portalbantourisme.com
X-WR-CALDESC:évènements pour Portalban tourisme – site officiel
REFRESH-INTERVAL;VALUE=DURATION:PT1H
X-Robots-Tag:noindex
X-PUBLISHED-TTL:PT1H
BEGIN:VTIMEZONE
TZID:Europe/Paris
BEGIN:DAYLIGHT
TZOFFSETFROM:+0100
TZOFFSETTO:+0200
TZNAME:CEST
DTSTART:20250330T010000
END:DAYLIGHT
BEGIN:STANDARD
TZOFFSETFROM:+0200
TZOFFSETTO:+0100
TZNAME:CET
DTSTART:20251026T010000
END:STANDARD
END:VTIMEZONE
BEGIN:VEVENT
DTSTART;TZID=Europe/Paris:20250704T173000
DTEND;TZID=Europe/Paris:20250704T183000
DTSTAMP:20260422T003138
CREATED:20250312T092107Z
LAST-MODIFIED:20250411T123919Z
UID:9808-1751650200-1751653800@www.portalbantourisme.com
SUMMARY:Concert par l’Ensemble des Cuivres Broyards
DESCRIPTION:(sous cantine en cas de pluie) \nPortalban Plage \nCommission culturelle de la commune de Delley-Portalban\nLe descriptif détaillé des activités sur www.delley-portalban-culture.ch\nEntrée libre (collecte) – verrée à l’issue des manifestations\nNous nous réjouissons de vous rencontrer nombreuses et nombreux !
URL:https://www.portalbantourisme.com/event/concert-par-lensemble-des-cuivres-broyards/
ATTACH;FMTTYPE=image/jpeg:https://www.portalbantourisme.com/wp-content/uploads/2025/03/2025_07_04_ECB.jpg
END:VEVENT
END:VCALENDAR