BEGIN:VCALENDAR
VERSION:2.0
PRODID:-//Portalban tourisme – site officiel - ECPv6.0.13.1//NONSGML v1.0//EN
CALSCALE:GREGORIAN
METHOD:PUBLISH
X-WR-CALNAME:Portalban tourisme – site officiel
X-ORIGINAL-URL:https://www.portalbantourisme.com
X-WR-CALDESC:évènements pour Portalban tourisme – site officiel
REFRESH-INTERVAL;VALUE=DURATION:PT1H
X-Robots-Tag:noindex
X-PUBLISHED-TTL:PT1H
BEGIN:VTIMEZONE
TZID:Europe/Paris
BEGIN:DAYLIGHT
TZOFFSETFROM:+0100
TZOFFSETTO:+0200
TZNAME:CEST
DTSTART:20250330T010000
END:DAYLIGHT
BEGIN:STANDARD
TZOFFSETFROM:+0200
TZOFFSETTO:+0100
TZNAME:CET
DTSTART:20251026T010000
END:STANDARD
END:VTIMEZONE
BEGIN:VEVENT
DTSTART;VALUE=DATE:20250710
DTEND;VALUE=DATE:20250714
DTSTAMP:20260422T021900
CREATED:20250512T151900Z
LAST-MODIFIED:20250512T151900Z
UID:9845-1752105600-1752451199@www.portalbantourisme.com
SUMMARY:Fête de Jeunesse de Gletterens
DESCRIPTION:Jeudi : After work dès 18h et pesée du jambon.\nVendredi : Souper de soutien suivi d’un concert.\nSamedi : concert.\nDimanche : Levée des danses. Bar\, tonnelle et snack tout au long du weekend
URL:https://www.portalbantourisme.com/event/fete-de-jeunesse-de-gletterens-4/
END:VEVENT
BEGIN:VEVENT
DTSTART;VALUE=DATE:20250712
DTEND;VALUE=DATE:20250714
DTSTAMP:20260422T021900
CREATED:20250512T151827Z
LAST-MODIFIED:20250512T151827Z
UID:9843-1752278400-1752451199@www.portalbantourisme.com
SUMMARY:21e Fête de la plongée Portasub à Portalban
DESCRIPTION:Plongées ouvertes à toutes les personnes brevetées (inscription@portasub.ch)\nBaptême de plongée en piscine\, accompagné par des moniteurs\, en toute sécurité de 8 à 88 ans. Informations : www.portasub.ch
URL:https://www.portalbantourisme.com/event/21e-fete-de-la-plongee-portasub-a-portalban/
END:VEVENT
END:VCALENDAR