BEGIN:VCALENDAR
VERSION:2.0
PRODID:-//Portalban tourisme – site officiel - ECPv6.0.13.1//NONSGML v1.0//EN
CALSCALE:GREGORIAN
METHOD:PUBLISH
X-WR-CALNAME:Portalban tourisme – site officiel
X-ORIGINAL-URL:https://www.portalbantourisme.com
X-WR-CALDESC:évènements pour Portalban tourisme – site officiel
REFRESH-INTERVAL;VALUE=DURATION:PT1H
X-Robots-Tag:noindex
X-PUBLISHED-TTL:PT1H
BEGIN:VTIMEZONE
TZID:Europe/Paris
BEGIN:DAYLIGHT
TZOFFSETFROM:+0100
TZOFFSETTO:+0200
TZNAME:CEST
DTSTART:20250330T010000
END:DAYLIGHT
BEGIN:STANDARD
TZOFFSETFROM:+0200
TZOFFSETTO:+0100
TZNAME:CET
DTSTART:20251026T010000
END:STANDARD
END:VTIMEZONE
BEGIN:VEVENT
DTSTART;VALUE=DATE:20250719
DTEND;VALUE=DATE:20250720
DTSTAMP:20260422T003157
CREATED:20250512T152015Z
LAST-MODIFIED:20250512T152015Z
UID:9849-1752883200-1752969599@www.portalbantourisme.com
SUMMARY:Four à pain de Portalban
DESCRIPTION:Vente de gâteaux au marché artisanal de Portalban\nOrganisation : Les amis du Four à Pain / Portalban Tourisme
URL:https://www.portalbantourisme.com/event/four-a-pain-de-portalban-9/
END:VEVENT
BEGIN:VEVENT
DTSTART;TZID=Europe/Paris:20250719T183000
DTEND;TZID=Europe/Paris:20250719T233000
DTSTAMP:20260422T003157
CREATED:20250512T151948Z
LAST-MODIFIED:20250512T151948Z
UID:9847-1752949800-1752967800@www.portalbantourisme.com
SUMMARY:Fête du Caravaning sur la place centrale\, Gletterens
DESCRIPTION:Repas et animation au programme\nOrganisation : Caravaning de Gletterens
URL:https://www.portalbantourisme.com/event/fete-du-caravaning-sur-la-place-centrale-gletterens-4/
END:VEVENT
END:VCALENDAR