BEGIN:VCALENDAR
VERSION:2.0
PRODID:-//Portalban tourisme – site officiel - ECPv6.0.13.1//NONSGML v1.0//EN
CALSCALE:GREGORIAN
METHOD:PUBLISH
X-ORIGINAL-URL:https://www.portalbantourisme.com
X-WR-CALDESC:évènements pour Portalban tourisme – site officiel
REFRESH-INTERVAL;VALUE=DURATION:PT1H
X-Robots-Tag:noindex
X-PUBLISHED-TTL:PT1H
BEGIN:VTIMEZONE
TZID:Europe/Paris
BEGIN:DAYLIGHT
TZOFFSETFROM:+0100
TZOFFSETTO:+0200
TZNAME:CEST
DTSTART:20250330T010000
END:DAYLIGHT
BEGIN:STANDARD
TZOFFSETFROM:+0200
TZOFFSETTO:+0100
TZNAME:CET
DTSTART:20251026T010000
END:STANDARD
END:VTIMEZONE
BEGIN:VEVENT
DTSTART;VALUE=DATE:20250724
DTEND;VALUE=DATE:20250728
DTSTAMP:20260421T210708
CREATED:20250512T152048Z
LAST-MODIFIED:20250512T152048Z
UID:9851-1753315200-1753660799@www.portalbantourisme.com
SUMMARY:44e Fête de Jeunesse à Portalban
DESCRIPTION:Jeudi : loto dès 20h\nVendredi : after work dès 16h. Dès 19h30 repas sur réservation et pour terminer la soirée\, dès 23h soirée année 80-90-00\nSamedi :Soirée fluo party all-styles dès 21h\nDimanche : 15h30 : levée des danses avec animations
URL:https://www.portalbantourisme.com/event/44e-fete-de-jeunesse-a-portalban/
END:VEVENT
END:VCALENDAR