BEGIN:VCALENDAR
VERSION:2.0
PRODID:-//Portalban tourisme – site officiel - ECPv6.0.13.1//NONSGML v1.0//EN
CALSCALE:GREGORIAN
METHOD:PUBLISH
X-ORIGINAL-URL:https://www.portalbantourisme.com
X-WR-CALDESC:évènements pour Portalban tourisme – site officiel
REFRESH-INTERVAL;VALUE=DURATION:PT1H
X-Robots-Tag:noindex
X-PUBLISHED-TTL:PT1H
BEGIN:VTIMEZONE
TZID:Europe/Paris
BEGIN:DAYLIGHT
TZOFFSETFROM:+0100
TZOFFSETTO:+0200
TZNAME:CEST
DTSTART:20250330T010000
END:DAYLIGHT
BEGIN:STANDARD
TZOFFSETFROM:+0200
TZOFFSETTO:+0100
TZNAME:CET
DTSTART:20251026T010000
END:STANDARD
END:VTIMEZONE
BEGIN:VEVENT
DTSTART;VALUE=DATE:20250724
DTEND;VALUE=DATE:20250728
DTSTAMP:20260422T022538
CREATED:20250512T152048Z
LAST-MODIFIED:20250512T152048Z
UID:9851-1753315200-1753660799@www.portalbantourisme.com
SUMMARY:44e Fête de Jeunesse à Portalban
DESCRIPTION:Jeudi : loto dès 20h\nVendredi : after work dès 16h. Dès 19h30 repas sur réservation et pour terminer la soirée\, dès 23h soirée année 80-90-00\nSamedi :Soirée fluo party all-styles dès 21h\nDimanche : 15h30 : levée des danses avec animations
URL:https://www.portalbantourisme.com/event/44e-fete-de-jeunesse-a-portalban/
END:VEVENT
BEGIN:VEVENT
DTSTART;TZID=Europe/Paris:20250726T090000
DTEND;TZID=Europe/Paris:20250726T163000
DTSTAMP:20260422T022538
CREATED:20250312T093058Z
LAST-MODIFIED:20250707T075042Z
UID:9813-1753520400-1753547400@www.portalbantourisme.com
SUMMARY:Marché d’été de Portalban
DESCRIPTION:Le Marché de Portalban\nChaque année\, dès l’aube\, l’ambiance s’anime à Portalban : les premiers exposants arrivent pour installer leurs stands pendant que l’équipe de Portalban Tourisme est déjà à pied d’œuvre. Dès 6 heures du matin\, un dispositif bien rôdé se met en place : un aiguilleur oriente les véhicules vers les bons accès du marché\, des bénévoles accompagnent les exposants jusqu’à leur emplacement et veillent au bon déroulement des installations\, y compris les raccordements électriques. \nDès 7 heures\, le cœur du marché s’agite comme une ruche. Des dizaines de stands prennent forme dans une joyeuse effervescence. L’entraide est palpable entre exposants : pour beaucoup\, c’est l’occasion de retrouvailles conviviales d’une année à l’autre\, et certains demandent même à être placés près de leurs voisins habituels. \nMalgré les aléas de la météo\, les exposants répondent présents en grand nombre\, parfois venant de loin. Et lorsque quelques places restent vacantes\, elles sont rapidement comblées par des participants spontanés. À 9 heures\, tout est en place : les véhicules quittent la zone du marché et les premiers visiteurs commencent leur promenade. \nAu fil de la journée\, le marché s’anime dans une atmosphère chaleureuse. Que ce soit sous le soleil ou entre quelques gouttes de pluie\, l’ambiance reste festive. En cas de chaleur\, les stands de glaces attirent des files d’attente bienvenues. La cantine propose friture et rafraîchissements\, pendant que le FC Portalban-Gletterens assure une ambiance conviviale autour du grill. Crêpes\, biscuits\, caramels et autres douceurs ravissent petits et grands. \nLe marché est aussi un lieu de découverte : artisans et producteurs y présentent un large éventail de créations et de produits locaux – objets d’art\, charcuterie artisanale\, linges brodés\, savons parfumés\, moutardes originales\, bijoux fantaisie\, bières artisanales\, vitraux et bien d’autres merveilles. \nPour les familles\, animations et spectacles ponctuent la visite et ajoutent à la magie de la journée. \nEn fin d’après-midi\, chacun replie son stand avec le sourire\, des souvenirs plein la tête et l’envie de revenir. Car le Marché de Portalban\, c’est bien plus qu’un événement : c’est une tradition\, un moment de partage et de convivialité en bord de lac\, à deux pas du port et de la plage. \nNous vous attendons nombreux pour la prochaine édition ! \n  \n\n\n	\n		\n\n			\n							\n					Inscription
URL:https://www.portalbantourisme.com/event/11e-marche-dete-sur-la-place-du-port-de-portalban-de-9h-a-17h30-copy/
END:VEVENT
BEGIN:VEVENT
DTSTART;TZID=Europe/Paris:20250726T183000
DTEND;TZID=Europe/Paris:20250726T233000
DTSTAMP:20260422T022538
CREATED:20250512T152201Z
LAST-MODIFIED:20250512T152201Z
UID:9853-1753554600-1753572600@www.portalbantourisme.com
SUMMARY:Chez Salem – restaurant La Nacelle
DESCRIPTION:Soirée paëlla avec le groupe Tom Küffer
URL:https://www.portalbantourisme.com/event/chez-salem-restaurant-la-nacelle-12/
END:VEVENT
END:VCALENDAR