BEGIN:VCALENDAR
VERSION:2.0
PRODID:-//Portalban tourisme – site officiel - ECPv6.0.13.1//NONSGML v1.0//EN
CALSCALE:GREGORIAN
METHOD:PUBLISH
X-WR-CALNAME:Portalban tourisme – site officiel
X-ORIGINAL-URL:https://www.portalbantourisme.com
X-WR-CALDESC:évènements pour Portalban tourisme – site officiel
REFRESH-INTERVAL;VALUE=DURATION:PT1H
X-Robots-Tag:noindex
X-PUBLISHED-TTL:PT1H
BEGIN:VTIMEZONE
TZID:Europe/Paris
BEGIN:DAYLIGHT
TZOFFSETFROM:+0100
TZOFFSETTO:+0200
TZNAME:CEST
DTSTART:20250330T010000
END:DAYLIGHT
BEGIN:STANDARD
TZOFFSETFROM:+0200
TZOFFSETTO:+0100
TZNAME:CET
DTSTART:20251026T010000
END:STANDARD
END:VTIMEZONE
BEGIN:VEVENT
DTSTART;VALUE=DATE:20250809
DTEND;VALUE=DATE:20250811
DTSTAMP:20260421T182531
CREATED:20250512T152815Z
LAST-MODIFIED:20250512T152815Z
UID:9869-1754697600-1754870399@www.portalbantourisme.com
SUMMARY:CP Lacoboule à la plage de Portalban
DESCRIPTION:Concours « Mémorial Chapuis » en triplettes le samedi et en doublette le dimanche\nRenseignements : www.lacoboule.ch\nCantine avec boissons à proximité
URL:https://www.portalbantourisme.com/event/cp-lacoboule-a-la-plage-de-portalban-8/
END:VEVENT
END:VCALENDAR