BEGIN:VCALENDAR
VERSION:2.0
PRODID:-//Portalban tourisme – site officiel - ECPv6.0.13.1//NONSGML v1.0//EN
CALSCALE:GREGORIAN
METHOD:PUBLISH
X-WR-CALNAME:Portalban tourisme – site officiel
X-ORIGINAL-URL:https://www.portalbantourisme.com
X-WR-CALDESC:évènements pour Portalban tourisme – site officiel
REFRESH-INTERVAL;VALUE=DURATION:PT1H
X-Robots-Tag:noindex
X-PUBLISHED-TTL:PT1H
BEGIN:VTIMEZONE
TZID:Europe/Paris
BEGIN:DAYLIGHT
TZOFFSETFROM:+0100
TZOFFSETTO:+0200
TZNAME:CEST
DTSTART:20250330T010000
END:DAYLIGHT
BEGIN:STANDARD
TZOFFSETFROM:+0200
TZOFFSETTO:+0100
TZNAME:CET
DTSTART:20251026T010000
END:STANDARD
END:VTIMEZONE
BEGIN:VEVENT
DTSTART;VALUE=DATE:20250824
DTEND;VALUE=DATE:20250825
DTSTAMP:20260422T024647
CREATED:20250512T153100Z
LAST-MODIFIED:20250512T153100Z
UID:9877-1755993600-1756079999@www.portalbantourisme.com
SUMMARY:Village lacustre de Gletterens
DESCRIPTION:Le dimanche 24 août verra la désormais traditionnelle fête de la Préhistoire au village lacustre de Gletterens. Diverses démonstrations\, ateliers\, reconstitutions pour tout public\, bar\, nourriture et belle humeur seront au programme. On pourra fabriquer un couteau néolithique. Le stand de tir accueillera les motivés pour s’essayer à la sagaie et au propulseur. Le reste du village lacustre sera alors dans un bourdonnement d’activités\, de la taille de silex\, de démonstration d’allumage de feu\, de l’art des bronziers etc.\nDans ce cadre magique unique en Suisse\, venez vivre en famille les premiers Ages de l’humanité.\nPour plus de renseignements et réservation : 076 381 12 23
URL:https://www.portalbantourisme.com/event/village-lacustre-de-gletterens-45/
END:VEVENT
END:VCALENDAR