BEGIN:VCALENDAR
VERSION:2.0
PRODID:-//Portalban tourisme – site officiel - ECPv6.0.13.1//NONSGML v1.0//EN
CALSCALE:GREGORIAN
METHOD:PUBLISH
X-WR-CALNAME:Portalban tourisme – site officiel
X-ORIGINAL-URL:https://www.portalbantourisme.com
X-WR-CALDESC:évènements pour Portalban tourisme – site officiel
REFRESH-INTERVAL;VALUE=DURATION:PT1H
X-Robots-Tag:noindex
X-PUBLISHED-TTL:PT1H
BEGIN:VTIMEZONE
TZID:Europe/Paris
BEGIN:DAYLIGHT
TZOFFSETFROM:+0100
TZOFFSETTO:+0200
TZNAME:CEST
DTSTART:20250330T010000
END:DAYLIGHT
BEGIN:STANDARD
TZOFFSETFROM:+0200
TZOFFSETTO:+0100
TZNAME:CET
DTSTART:20251026T010000
END:STANDARD
END:VTIMEZONE
BEGIN:VEVENT
DTSTART;TZID=Europe/Paris:20250904T183000
DTEND;TZID=Europe/Paris:20250904T213000
DTSTAMP:20260421T212541
CREATED:20250512T153136Z
LAST-MODIFIED:20250512T153136Z
UID:9879-1757010600-1757021400@www.portalbantourisme.com
SUMMARY:DSTRB – Electro beach
DESCRIPTION:Ambiance électro avec DSTRB à la plage de Portalban\nDe 18h30 à 21h30 à la plage de Portalban\nOrganisation : Commission culturelle de la Commune de Delley-­Portalban
URL:https://www.portalbantourisme.com/event/dstrb-electro-beach-4/
END:VEVENT
END:VCALENDAR