BEGIN:VCALENDAR
VERSION:2.0
PRODID:-//Portalban tourisme – site officiel - ECPv6.0.13.1//NONSGML v1.0//EN
CALSCALE:GREGORIAN
METHOD:PUBLISH
X-ORIGINAL-URL:https://www.portalbantourisme.com
X-WR-CALDESC:évènements pour Portalban tourisme – site officiel
REFRESH-INTERVAL;VALUE=DURATION:PT1H
X-Robots-Tag:noindex
X-PUBLISHED-TTL:PT1H
BEGIN:VTIMEZONE
TZID:Europe/Paris
BEGIN:DAYLIGHT
TZOFFSETFROM:+0100
TZOFFSETTO:+0200
TZNAME:CEST
DTSTART:20250330T010000
END:DAYLIGHT
BEGIN:STANDARD
TZOFFSETFROM:+0200
TZOFFSETTO:+0100
TZNAME:CET
DTSTART:20251026T010000
END:STANDARD
END:VTIMEZONE
BEGIN:VEVENT
DTSTART;TZID=Europe/Paris:20250917T140000
DTEND;TZID=Europe/Paris:20250917T163000
DTSTAMP:20260421T122730
CREATED:20250512T153227Z
LAST-MODIFIED:20250512T153242Z
UID:9881-1758117600-1758126600@www.portalbantourisme.com
SUMMARY:Après-midi jeux pour petits et grands
DESCRIPTION:Apportez votre jeu préféré ou venez découvrir de nouveaux jeux. Les enfants sont sous la responsabilité des parents. Ils doivent être accompagnés jusqu’à 8 ans.\nA l’ancienne école de Delley\nOrganisation : Commission culturelle de la Commune de Delley-­Portalban
URL:https://www.portalbantourisme.com/event/apres-midi-jeux-pour-petits-et-grands/
END:VEVENT
END:VCALENDAR