BEGIN:VCALENDAR
VERSION:2.0
PRODID:-//Portalban tourisme – site officiel - ECPv6.0.13.1//NONSGML v1.0//EN
CALSCALE:GREGORIAN
METHOD:PUBLISH
X-WR-CALNAME:Portalban tourisme – site officiel
X-ORIGINAL-URL:https://www.portalbantourisme.com
X-WR-CALDESC:évènements pour Portalban tourisme – site officiel
REFRESH-INTERVAL;VALUE=DURATION:PT1H
X-Robots-Tag:noindex
X-PUBLISHED-TTL:PT1H
BEGIN:VTIMEZONE
TZID:Europe/Paris
BEGIN:DAYLIGHT
TZOFFSETFROM:+0100
TZOFFSETTO:+0200
TZNAME:CEST
DTSTART:20230326T010000
END:DAYLIGHT
BEGIN:STANDARD
TZOFFSETFROM:+0200
TZOFFSETTO:+0100
TZNAME:CET
DTSTART:20231029T010000
END:STANDARD
END:VTIMEZONE
BEGIN:VEVENT
DTSTART;TZID=Europe/Paris:20231105T170000
DTEND;TZID=Europe/Paris:20231105T170000
DTSTAMP:20260425T050155
CREATED:20230515T152100Z
LAST-MODIFIED:20230515T152100Z
UID:9599-1699203600-1699203600@www.portalbantourisme.com
SUMMARY:Conférence de Manischa Berger « La caravane silencieuse »
DESCRIPTION:En 2020\, cette jeune Vaudoise était partie d’Yverdon avec ses deux chevaux et son chien pour un périple de treize mois qui les a menés jusqu’aux Blakans. Une aventure tout en douceur et en pleine pandémie.\nDès 17h à l’école de Delley.\nOrganisation : Commission culturelle de la Commune de Delley-Portalban.
URL:https://www.portalbantourisme.com/event/conference-de-manischa-berger-la-caravane-silencieuse/
END:VEVENT
END:VCALENDAR