BEGIN:VCALENDAR
VERSION:2.0
PRODID:-//Portalban tourisme – site officiel - ECPv6.0.13.1//NONSGML v1.0//EN
CALSCALE:GREGORIAN
METHOD:PUBLISH
X-WR-CALNAME:Portalban tourisme – site officiel
X-ORIGINAL-URL:https://www.portalbantourisme.com
X-WR-CALDESC:évènements pour Portalban tourisme – site officiel
REFRESH-INTERVAL;VALUE=DURATION:PT1H
X-Robots-Tag:noindex
X-PUBLISHED-TTL:PT1H
BEGIN:VTIMEZONE
TZID:Europe/Paris
BEGIN:DAYLIGHT
TZOFFSETFROM:+0100
TZOFFSETTO:+0200
TZNAME:CEST
DTSTART:20240331T010000
END:DAYLIGHT
BEGIN:STANDARD
TZOFFSETFROM:+0200
TZOFFSETTO:+0100
TZNAME:CET
DTSTART:20241027T010000
END:STANDARD
END:VTIMEZONE
BEGIN:VEVENT
DTSTART;TZID=Europe/Paris:20240421T170000
DTEND;TZID=Europe/Paris:20240421T190000
DTSTAMP:20260424T062401
CREATED:20240417T092902Z
LAST-MODIFIED:20240417T092902Z
UID:9656-1713718800-1713726000@www.portalbantourisme.com
SUMMARY:Alimentation et santé
DESCRIPTION:Conférence interactive de Nicolas Parel\nDiététicien chez www.TeamNutrition.ch
URL:https://www.portalbantourisme.com/event/alimentation-et-sante/
LOCATION:Ancienne école de Delley\, Delley-Portalban\, Suisse
END:VEVENT
END:VCALENDAR