BEGIN:VCALENDAR
VERSION:2.0
PRODID:-//Portalban tourisme – site officiel - ECPv6.0.13.1//NONSGML v1.0//EN
CALSCALE:GREGORIAN
METHOD:PUBLISH
X-ORIGINAL-URL:https://www.portalbantourisme.com
X-WR-CALDESC:évènements pour Portalban tourisme – site officiel
REFRESH-INTERVAL;VALUE=DURATION:PT1H
X-Robots-Tag:noindex
X-PUBLISHED-TTL:PT1H
BEGIN:VTIMEZONE
TZID:Europe/Paris
BEGIN:DAYLIGHT
TZOFFSETFROM:+0100
TZOFFSETTO:+0200
TZNAME:CEST
DTSTART:20240331T010000
END:DAYLIGHT
BEGIN:STANDARD
TZOFFSETFROM:+0200
TZOFFSETTO:+0100
TZNAME:CET
DTSTART:20241027T010000
END:STANDARD
END:VTIMEZONE
BEGIN:VEVENT
DTSTART;TZID=Europe/Paris:20240704T180000
DTEND;TZID=Europe/Paris:20240704T190000
DTSTAMP:20260423T174937
CREATED:20240528T143236Z
LAST-MODIFIED:20240528T143236Z
UID:9687-1720116000-1720119600@www.portalbantourisme.com
SUMMARY:Village lacustre de Gletterens
DESCRIPTION:Un village à pas contés de 18h à 19h \nContemuse (collectif de conteurs/euses) raconte et déambule dans les maisons du village. Pour tous ! \nRendez-vous sur le parking de Gletterens lac.
URL:https://www.portalbantourisme.com/event/village-lacustre-de-gletterens-29/
END:VEVENT
BEGIN:VEVENT
DTSTART;TZID=Europe/Paris:20240706T133000
DTEND;TZID=Europe/Paris:20240706T163000
DTSTAMP:20260423T174937
CREATED:20240528T143307Z
LAST-MODIFIED:20240528T143307Z
UID:9689-1720272600-1720283400@www.portalbantourisme.com
SUMMARY:Village lacustre de Gletterens
DESCRIPTION:Stage pour apprendre à faire du feu par friction de bois \nSur réservation\, maximum 8 personnes de 13h30 à 16h30
URL:https://www.portalbantourisme.com/event/village-lacustre-de-gletterens-30/
END:VEVENT
BEGIN:VEVENT
DTSTART;TZID=Europe/Paris:20240706T210000
DTEND;TZID=Europe/Paris:20240706T233000
DTSTAMP:20260423T174937
CREATED:20240528T143352Z
LAST-MODIFIED:20240528T143352Z
UID:9691-1720299600-1720308600@www.portalbantourisme.com
SUMMARY:Concert avec le groupe The PapanamaZ
DESCRIPTION:Groupe de Soul\, Rock\, Funk\, Reggae des années 70’ à nos jours ! Venez bouger sur le dancefloor ! Enjoy ! \nDès 21h sous la tente à Portalban \nOrganisation : Commission culturelle de la Commune de Delley-­Portalban
URL:https://www.portalbantourisme.com/event/concert-avec-le-groupe-the-papanamaz/
END:VEVENT
BEGIN:VEVENT
DTSTART;VALUE=DATE:20240711
DTEND;VALUE=DATE:20240715
DTSTAMP:20260423T174937
CREATED:20240528T143546Z
LAST-MODIFIED:20240528T144123Z
UID:9695-1720656000-1721001599@www.portalbantourisme.com
SUMMARY:Fête de Jeunesse de Gletterens
DESCRIPTION:Jeudi : After work dès 18h et pesée du jambon \nVendredi : Souper de soutien suivi d’un concert puis bar\, tonnelle et snack \nSamedi : concert\, bar et tonnelle jusqu’à la fermeture. \nDimanche : Levée des danses et résultat de la pesée du jambon
URL:https://www.portalbantourisme.com/event/fete-de-jeunesse-de-gletterens-3/
END:VEVENT
BEGIN:VEVENT
DTSTART;VALUE=DATE:20240712
DTEND;VALUE=DATE:20240715
DTSTAMP:20260423T174937
CREATED:20240528T143515Z
LAST-MODIFIED:20240528T143515Z
UID:9693-1720742400-1721001599@www.portalbantourisme.com
SUMMARY:20e Fête de la plongée Portasub à Portalban
DESCRIPTION:Plongées ouvertes à toutes les personnes brevetées (inscription@portasub.ch) \nBaptême de plongée en piscine\, accompagné par des moniteurs\, en toute sécurité de 8 à 88 ans. Informations : www.portasub.ch
URL:https://www.portalbantourisme.com/event/20e-fete-de-la-plongee-portasub-a-portalban/
END:VEVENT
BEGIN:VEVENT
DTSTART;VALUE=DATE:20240713
DTEND;VALUE=DATE:20240714
DTSTAMP:20260423T174937
CREATED:20240528T144149Z
LAST-MODIFIED:20240528T144149Z
UID:9697-1720828800-1720915199@www.portalbantourisme.com
SUMMARY:Village lacustre de Gletterens
DESCRIPTION:Un stage pour fabriquer une bourse en cuir et y dessiner\, grâce à des oxydes\, des dessins ou décors au choix. \nDès 16 ans. max 6 personnes\, amenez vos grillades !
URL:https://www.portalbantourisme.com/event/village-lacustre-de-gletterens-31/
END:VEVENT
BEGIN:VEVENT
DTSTART;VALUE=DATE:20240714
DTEND;VALUE=DATE:20240722
DTSTAMP:20260423T174937
CREATED:20240528T144309Z
LAST-MODIFIED:20240528T144309Z
UID:9701-1720915200-1721606399@www.portalbantourisme.com
SUMMARY:Semaine de la céramique au Village lacustre
DESCRIPTION:Pendant huit jours\, un groupe d’expérimentateurs/trices\, se composant d’étudiant-es en céramique\, de potiers-tières de carrière\, d’artisan-sanes d’autres corps de métier et de passionné-e-s\, se retrouveront afin de reproduire des poteries d’inspiration essentiellement néolithique et montées selon la technique du colombin ainsi que d’autres objets en terre cuite connus à la Préhistoire\, comme des statuettes. Sur réservation pour les participants
URL:https://www.portalbantourisme.com/event/semaine-de-la-ceramique-au-village-lacustre-2/
END:VEVENT
BEGIN:VEVENT
DTSTART;VALUE=DATE:20240718
DTEND;VALUE=DATE:20240722
DTSTAMP:20260423T174937
CREATED:20240528T144228Z
LAST-MODIFIED:20240528T144228Z
UID:9699-1721260800-1721606399@www.portalbantourisme.com
SUMMARY:43e Fête de Jeunesse à Portalban
DESCRIPTION:Jeudi : loto dès 20h \nVendredi : after work dès 16h. Dès 19h30 repas sur réservation et pour terminer la soirée\, dès 23h soirée année 80-90-00 \nSamedi : Soirée fluo party all-styles dès 21h \nDimanche : 15h30: levée des danses avec animations
URL:https://www.portalbantourisme.com/event/43e-fete-de-jeunesse-a-portalban/
END:VEVENT
BEGIN:VEVENT
DTSTART;VALUE=DATE:20240720
DTEND;VALUE=DATE:20240721
DTSTAMP:20260423T174937
CREATED:20240528T144417Z
LAST-MODIFIED:20240528T144417Z
UID:9705-1721433600-1721519999@www.portalbantourisme.com
SUMMARY:Four à pain de Portalban
DESCRIPTION:Vente de gâteaux au marché artisanal de Portalban \nOrganisation : Les amis du Four à Pain/Portalban Tourisme
URL:https://www.portalbantourisme.com/event/four-a-pain-de-portalban-5/
END:VEVENT
BEGIN:VEVENT
DTSTART;TZID=Europe/Paris:20240720T183000
DTEND;TZID=Europe/Paris:20240720T233000
DTSTAMP:20260423T174937
CREATED:20240528T144351Z
LAST-MODIFIED:20240528T144351Z
UID:9703-1721500200-1721518200@www.portalbantourisme.com
SUMMARY:Fête du Caravaning sur la place centrale\, Gletterens
DESCRIPTION:Repas et animation au programme. Organisation : Caravaning de Gletterens
URL:https://www.portalbantourisme.com/event/fete-du-caravaning-sur-la-place-centrale-gletterens-3/
END:VEVENT
BEGIN:VEVENT
DTSTART;TZID=Europe/Paris:20240724T210000
DTEND;TZID=Europe/Paris:20240724T233000
DTSTAMP:20260423T174937
CREATED:20240528T144500Z
LAST-MODIFIED:20240528T144500Z
UID:9707-1721854800-1721863800@www.portalbantourisme.com
SUMMARY:Soirée cinéma « Green Book : Sur les routes du Sud »\, de Peter Farelly (2018)
DESCRIPTION:Film biographique sur une tournée réalisée dans les États du Sud en 1962 par le pianiste noir Don Shirley et son chauffeur et garde du corps blanc Tony Vallelonga (dit Tony Lip). \nSous la tente à Portalban dès 21h. Organisation : Commission culturelle de la Commune de Delley-Portalban
URL:https://www.portalbantourisme.com/event/soiree-cinema-green-book-sur-les-routes-du-sud-de-peter-farelly-2018/
END:VEVENT
BEGIN:VEVENT
DTSTART;TZID=Europe/Paris:20240725T210000
DTEND;TZID=Europe/Paris:20240725T233000
DTSTAMP:20260423T174937
CREATED:20240528T144536Z
LAST-MODIFIED:20240528T144536Z
UID:9709-1721941200-1721950200@www.portalbantourisme.com
SUMMARY:Soirée cinéma « Ciao-ciao Bourbine »\, de Peter Luisi (CH – 2023)
DESCRIPTION:Comédie tournant autour des conséquences de l’acceptation d’une initiative populaire fédérale\, lancée par l’entrepreneur populiste Jeannot Bachmann\, qui fait du français la seule langue nationale officielle de la Suisse. \nSous la tente à Portalban dès 21h. Organisation : Commission culturelle de la Commune de Delley-Portalban
URL:https://www.portalbantourisme.com/event/soiree-cinema-ciao-ciao-bourbine-de-peter-luisi-ch-2023/
END:VEVENT
BEGIN:VEVENT
DTSTART;TZID=Europe/Paris:20240726T193000
DTEND;TZID=Europe/Paris:20240726T233000
DTSTAMP:20260423T174937
CREATED:20240528T144613Z
LAST-MODIFIED:20240528T144613Z
UID:9711-1722022200-1722036600@www.portalbantourisme.com
SUMMARY:Démonstration de « Lindy hop »
DESCRIPTION:Possibilité au public de pouvoir participer et s’essayer à cette danse avec l’école de danse « Swing By » dès 19h30 puis soirée dansante avec « Les Amis du Jazz de Cortaillod » dès 20h30 \nOrganisation : Commission culturelle de la Commune de ­Delley-­Portalban
URL:https://www.portalbantourisme.com/event/demonstration-de-lindy-hop-3/
END:VEVENT
BEGIN:VEVENT
DTSTART;VALUE=DATE:20240727
DTEND;VALUE=DATE:20240728
DTSTAMP:20260423T174937
CREATED:20240528T144642Z
LAST-MODIFIED:20240528T144642Z
UID:9713-1722038400-1722124799@www.portalbantourisme.com
SUMMARY:11e marché d’été sur la place du port de Portalban de 9h à 17h30
DESCRIPTION:Plus de 90 stands. Produits du terroir\, artisanat\, démonstration\, animation musicale. Restauration. Organisation : Portalban ­Tourisme
URL:https://www.portalbantourisme.com/event/11e-marche-dete-sur-la-place-du-port-de-portalban-de-9h-a-17h30/
END:VEVENT
BEGIN:VEVENT
DTSTART;TZID=Europe/Paris:20240727T190000
DTEND;TZID=Europe/Paris:20240727T233000
DTSTAMP:20260423T174937
CREATED:20240528T144818Z
LAST-MODIFIED:20240528T144818Z
UID:9717-1722106800-1722123000@www.portalbantourisme.com
SUMMARY:Chez Salem – restaurant La Nacelle
DESCRIPTION:Soirée avec le groupe Tom Küffer
URL:https://www.portalbantourisme.com/event/chez-salem-restaurant-la-nacelle-10/
END:VEVENT
BEGIN:VEVENT
DTSTART;VALUE=DATE:20240728
DTEND;VALUE=DATE:20240805
DTSTAMP:20260423T174937
CREATED:20240528T144742Z
LAST-MODIFIED:20240528T144742Z
UID:9715-1722124800-1722815999@www.portalbantourisme.com
SUMMARY:Rassemblement préhistorique au Village lacustre
DESCRIPTION:Huit jours durant\, des passionnés de Préhistoire se rassemblent pour échanger des connaissances et des techniques liées à la vie dans la Préhistoire. Le public est bienvenu pour observer et questionner ces acteurs. Sur réservation pour les participants
URL:https://www.portalbantourisme.com/event/rassemblement-prehistorique-au-village-lacustre/
END:VEVENT
BEGIN:VEVENT
DTSTART;TZID=Europe/Paris:20240731T180000
DTEND;TZID=Europe/Paris:20240731T233000
DTSTAMP:20260423T174937
CREATED:20240528T144849Z
LAST-MODIFIED:20240729T153609Z
UID:9719-1722448800-1722468600@www.portalbantourisme.com
SUMMARY:Fête nationale à Gletterens (à côté du terrain de foot)
DESCRIPTION:18h : début des festivités \nOrganisation : Jeunesse de Gletterens
URL:https://www.portalbantourisme.com/event/fete-nationale-a-gletterens-a-cote-des-terrains-de-tennis-3/
END:VEVENT
END:VCALENDAR