BEGIN:VCALENDAR
VERSION:2.0
PRODID:-//Portalban tourisme – site officiel - ECPv6.0.13.1//NONSGML v1.0//EN
CALSCALE:GREGORIAN
METHOD:PUBLISH
X-WR-CALNAME:Portalban tourisme – site officiel
X-ORIGINAL-URL:https://www.portalbantourisme.com
X-WR-CALDESC:évènements pour Portalban tourisme – site officiel
REFRESH-INTERVAL;VALUE=DURATION:PT1H
X-Robots-Tag:noindex
X-PUBLISHED-TTL:PT1H
BEGIN:VTIMEZONE
TZID:Europe/Paris
BEGIN:DAYLIGHT
TZOFFSETFROM:+0100
TZOFFSETTO:+0200
TZNAME:CEST
DTSTART:20240331T010000
END:DAYLIGHT
BEGIN:STANDARD
TZOFFSETFROM:+0200
TZOFFSETTO:+0100
TZNAME:CET
DTSTART:20241027T010000
END:STANDARD
END:VTIMEZONE
BEGIN:VEVENT
DTSTART;VALUE=DATE:20241005
DTEND;VALUE=DATE:20241006
DTSTAMP:20260423T083337
CREATED:20240528T150345Z
LAST-MODIFIED:20240528T150345Z
UID:9755-1728086400-1728172799@www.portalbantourisme.com
SUMMARY:Village lacustre de Gletterens
DESCRIPTION:Stage bronze – Apprendre à fabriquer un moule en sable\, attiser le feu et fondre du bronze puis le couler dans le moule afin d’obtenir un objet. \nSur réservation\, maximum 5 personnes (dès 16 ans)
URL:https://www.portalbantourisme.com/event/village-lacustre-de-gletterens-37/
END:VEVENT
BEGIN:VEVENT
DTSTART;VALUE=DATE:20241012
DTEND;VALUE=DATE:20241013
DTSTAMP:20260423T083337
CREATED:20240528T150504Z
LAST-MODIFIED:20240528T150504Z
UID:9759-1728691200-1728777599@www.portalbantourisme.com
SUMMARY:Village lacustre de Gletterens
DESCRIPTION:Stage fabrication d’un set de couture préhistorique. Outils en os et bois et pochette en cuir. \nSur réservation\, maximum 8 personnes (dès 16 ans)
URL:https://www.portalbantourisme.com/event/village-lacustre-de-gletterens-38/
END:VEVENT
BEGIN:VEVENT
DTSTART;VALUE=DATE:20241012
DTEND;VALUE=DATE:20241014
DTSTAMP:20260423T083337
CREATED:20240528T150534Z
LAST-MODIFIED:20240528T150534Z
UID:9761-1728691200-1728863999@www.portalbantourisme.com
SUMMARY:Village lacustre de Gletterens
DESCRIPTION:Arcs et flèches – Pendant 4 jours répartis sur 2 week-ends consécutifs réalisation d’ un arc en bois (35-45 lbs)\, sa corde en lin et deux flèches en bois\, plumes\, bois de cerf\, boyau et brai de bouleau. \nDe 4 à 8 participants\, dès 16 ans (dès 12 ans si accompagné)
URL:https://www.portalbantourisme.com/event/village-lacustre-de-gletterens-39/
END:VEVENT
BEGIN:VEVENT
DTSTART;TZID=Europe/Paris:20241013T170000
DTEND;TZID=Europe/Paris:20241013T200000
DTSTAMP:20260423T083337
CREATED:20240528T150430Z
LAST-MODIFIED:20240528T150430Z
UID:9757-1728838800-1728849600@www.portalbantourisme.com
SUMMARY:ImproKids avec la troupe Improvisibles
DESCRIPTION:Dès 17h à l’école de Delley\, théâtre d’improvisation pour enfants et adultes \nOrganisation : Commission culturelle de la Commune de Delley-Portalban
URL:https://www.portalbantourisme.com/event/improkids-avec-la-troupe-improvisibles/
END:VEVENT
BEGIN:VEVENT
DTSTART;VALUE=DATE:20241019
DTEND;VALUE=DATE:20241020
DTSTAMP:20260423T083337
CREATED:20240528T150800Z
LAST-MODIFIED:20240528T150800Z
UID:9765-1729296000-1729382399@www.portalbantourisme.com
SUMMARY:Village lacustre de Gletterens
DESCRIPTION:Stage pour apprendre à faire du feu par friction de bois \nSur réservation\, maximum 8 personnes\, 076 381 12 23
URL:https://www.portalbantourisme.com/event/village-lacustre-de-gletterens-40/
END:VEVENT
BEGIN:VEVENT
DTSTART;VALUE=DATE:20241019
DTEND;VALUE=DATE:20241021
DTSTAMP:20260423T083337
CREATED:20240528T150642Z
LAST-MODIFIED:20240528T150659Z
UID:9763-1729296000-1729468799@www.portalbantourisme.com
SUMMARY:Village lacustre de Gletterens Exemplaire
DESCRIPTION:Arcs et flèches – Pendant 4 jours répartis sur 2 week-ends consécutifs réalisation d’ un arc en bois (35-45 lbs)\, sa corde en lin et deux flèches en bois\, plumes\, bois de cerf\, boyau et brai de bouleau. \nDe 4 à 8 participants\, dès 16 ans (dès 12 ans si accompagné)
URL:https://www.portalbantourisme.com/event/village-lacustre-de-gletterens-39-copy/
END:VEVENT
BEGIN:VEVENT
DTSTART;VALUE=DATE:20241026
DTEND;VALUE=DATE:20241027
DTSTAMP:20260423T083337
CREATED:20240528T150831Z
LAST-MODIFIED:20240528T150831Z
UID:9767-1729900800-1729987199@www.portalbantourisme.com
SUMMARY:Village lacustre de Gletterens
DESCRIPTION:Femmes ménopausées et sans enfant \nDans le cadre de l’année « des femmes dans la Préhistoire » un atelier d’exploration sensible d’un phénomène moderne : que ce soit volontaire ou non\, beaucoup de femmes aujourd’hui n’ont et n’auront pas d’enfant…une journée entre modelage\, chant et sauna pour se rencontrer et observer consciemment ce chemin de vie. \nSur réservation\, maximum 10 personnes.
URL:https://www.portalbantourisme.com/event/village-lacustre-de-gletterens-41/
END:VEVENT
BEGIN:VEVENT
DTSTART;VALUE=DATE:20241027
DTEND;VALUE=DATE:20241028
DTSTAMP:20260423T083337
CREATED:20240528T150857Z
LAST-MODIFIED:20240528T150857Z
UID:9769-1729987200-1730073599@www.portalbantourisme.com
SUMMARY:Village lacustre de Gletterens
DESCRIPTION:Grand feu de fermeture : feu pour se rencontrer\, griller et parler entre public et animateurs
URL:https://www.portalbantourisme.com/event/village-lacustre-de-gletterens-42/
END:VEVENT
END:VCALENDAR