BEGIN:VCALENDAR
VERSION:2.0
PRODID:-//Portalban tourisme – site officiel - ECPv6.0.13.1//NONSGML v1.0//EN
CALSCALE:GREGORIAN
METHOD:PUBLISH
X-WR-CALNAME:Portalban tourisme – site officiel
X-ORIGINAL-URL:https://www.portalbantourisme.com
X-WR-CALDESC:évènements pour Portalban tourisme – site officiel
REFRESH-INTERVAL;VALUE=DURATION:PT1H
X-Robots-Tag:noindex
X-PUBLISHED-TTL:PT1H
BEGIN:VTIMEZONE
TZID:Europe/Paris
BEGIN:DAYLIGHT
TZOFFSETFROM:+0100
TZOFFSETTO:+0200
TZNAME:CEST
DTSTART:20250330T010000
END:DAYLIGHT
BEGIN:STANDARD
TZOFFSETFROM:+0200
TZOFFSETTO:+0100
TZNAME:CET
DTSTART:20251026T010000
END:STANDARD
END:VTIMEZONE
BEGIN:VEVENT
DTSTART;VALUE=DATE:20250607
DTEND;VALUE=DATE:20250609
DTSTAMP:20260422T003058
CREATED:20250512T151138Z
LAST-MODIFIED:20250512T151355Z
UID:9832-1749254400-1749427199@www.portalbantourisme.com
SUMMARY:Freestyle Séries Kite à la plage de Portalban
DESCRIPTION:Championnat de freestyle en kitesurf\nOrganisation : Société Suisse Kitesurf
URL:https://www.portalbantourisme.com/event/freestyle-series-kite-a-la-plage-de-portalban/
END:VEVENT
BEGIN:VEVENT
DTSTART;TZID=Europe/Paris:20250615T200000
DTEND;TZID=Europe/Paris:20250615T220000
DTSTAMP:20260422T003058
CREATED:20250312T092005Z
LAST-MODIFIED:20250411T124030Z
UID:9806-1750017600-1750024800@www.portalbantourisme.com
SUMMARY:Séance cinéma: «Juré no 2»
DESCRIPTION:de Clint Eastwood (2024 / 1 h 54) – âge suggéré 12 ans \nEcole de Delley \nCommission culturelle de la commune de Delley-Portalban\nLe descriptif détaillé des activités sur www.delley-portalban-culture.ch\nEntrée libre (collecte) – verrée à l’issue des manifestations\nNous nous réjouissons de vous rencontrer nombreuses et nombreux !
URL:https://www.portalbantourisme.com/event/seance-cinema-jure-no-2/
ATTACH;FMTTYPE=image/jpeg:https://www.portalbantourisme.com/wp-content/uploads/2025/03/2025_Cinema-Jure-no-2.jpg
END:VEVENT
BEGIN:VEVENT
DTSTART;TZID=Europe/Paris:20250619T183000
DTEND;TZID=Europe/Paris:20250619T213000
DTSTAMP:20260422T003058
CREATED:20250512T151503Z
LAST-MODIFIED:20250512T151503Z
UID:9834-1750357800-1750368600@www.portalbantourisme.com
SUMMARY:DSTRB – Electro beach
DESCRIPTION:Ambiance électro avec DSTRB à la plage de Portalban\nA la plage de Portalban\nOrganisation : Commission culturelle de la Commune de Delley-­Portalban
URL:https://www.portalbantourisme.com/event/dstrb-electro-beach/
END:VEVENT
BEGIN:VEVENT
DTSTART;VALUE=DATE:20250621
DTEND;VALUE=DATE:20250622
DTSTAMP:20260422T003058
CREATED:20250512T151535Z
LAST-MODIFIED:20250512T151535Z
UID:9836-1750464000-1750550399@www.portalbantourisme.com
SUMMARY:Tournoi de pétanque (Salem)
DESCRIPTION:A la plage de Portalban dans la zone « pétanque »\nOrganisation : Société Lacoboule
URL:https://www.portalbantourisme.com/event/tournoi-de-petanque-salem/
END:VEVENT
BEGIN:VEVENT
DTSTART;VALUE=DATE:20250628
DTEND;VALUE=DATE:20250629
DTSTAMP:20260422T003058
CREATED:20250512T151617Z
LAST-MODIFIED:20250512T151617Z
UID:9838-1751068800-1751155199@www.portalbantourisme.com
SUMMARY:Four à pain de Portalban
DESCRIPTION:Vente de gâteaux au four à pain de Portalban\nOrganisation : Les amis du Four à Pain / Portalban Tourisme
URL:https://www.portalbantourisme.com/event/four-a-pain-de-portalban-8/
END:VEVENT
END:VCALENDAR