BEGIN:VCALENDAR
VERSION:2.0
PRODID:-//Portalban tourisme – site officiel - ECPv6.0.13.1//NONSGML v1.0//EN
CALSCALE:GREGORIAN
METHOD:PUBLISH
X-ORIGINAL-URL:https://www.portalbantourisme.com
X-WR-CALDESC:évènements pour Portalban tourisme – site officiel
REFRESH-INTERVAL;VALUE=DURATION:PT1H
X-Robots-Tag:noindex
X-PUBLISHED-TTL:PT1H
BEGIN:VTIMEZONE
TZID:Europe/Paris
BEGIN:DAYLIGHT
TZOFFSETFROM:+0100
TZOFFSETTO:+0200
TZNAME:CEST
DTSTART:20250330T010000
END:DAYLIGHT
BEGIN:STANDARD
TZOFFSETFROM:+0200
TZOFFSETTO:+0100
TZNAME:CET
DTSTART:20251026T010000
END:STANDARD
END:VTIMEZONE
BEGIN:VEVENT
DTSTART;VALUE=DATE:20250727
DTEND;VALUE=DATE:20250804
DTSTAMP:20260421T134724
CREATED:20250512T152241Z
LAST-MODIFIED:20250512T152241Z
UID:9855-1753574400-1754265599@www.portalbantourisme.com
SUMMARY:Rassemblement préhistorique au Village lacustre
DESCRIPTION:Huit jours durant\, des passionnés de Préhistoire se rassemblent pour échanger des connaissances et des techniques liées à la vie dans la Préhistoire. Le public est bienvenu pour observer et questionner ces acteurs. Pour tous les âges. Sans réservation pour les participants
URL:https://www.portalbantourisme.com/event/rassemblement-prehistorique-au-village-lacustre-2/
END:VEVENT
BEGIN:VEVENT
DTSTART;VALUE=DATE:20250801
DTEND;VALUE=DATE:20250802
DTSTAMP:20260421T134724
CREATED:20250512T152610Z
LAST-MODIFIED:20250512T152610Z
UID:9865-1754006400-1754092799@www.portalbantourisme.com
SUMMARY:Village lacustre de Gletterens
DESCRIPTION:Voyage dans le temps. Qu’était la vie des habitants de cette région un 1er août ?\nLe voyage dans le temps vous propose de suivre un guide qui va commenter trois scènes de la vie quotidienne préhistorique interprétées par\, au minimum\, trois acteurs costumés. Une au Mésolithique\, une deuxième au Néolithique\, la dernière à l’Age du bronze. Sur réservation\, 076 381 12 23
URL:https://www.portalbantourisme.com/event/village-lacustre-de-gletterens-44/
END:VEVENT
BEGIN:VEVENT
DTSTART;TZID=Europe/Paris:20250801T100000
DTEND;TZID=Europe/Paris:20250801T230000
DTSTAMP:20260421T134724
CREATED:20250512T152538Z
LAST-MODIFIED:20250512T152538Z
UID:9863-1754042400-1754089200@www.portalbantourisme.com
SUMMARY:Amicale de la Voile de Portalban
DESCRIPTION:L’AVP tiendra un stand avec boissons et petite restauration sur la jetée du port de Portalban entre 10h00 et 23h00\nSi la météo le permet\, possibilité de faire une initiation à la voile pour les enfants et les jeunes.
URL:https://www.portalbantourisme.com/event/amicale-de-la-voile-de-portalban-3/
END:VEVENT
BEGIN:VEVENT
DTSTART;TZID=Europe/Paris:20250801T110000
DTEND;TZID=Europe/Paris:20250801T140000
DTSTAMP:20260421T134724
CREATED:20250512T152502Z
LAST-MODIFIED:20250512T152502Z
UID:9861-1754046000-1754056800@www.portalbantourisme.com
SUMMARY:Société de Sauvetage Delley-Portalban-Gletterens
DESCRIPTION:Le traditionnel apéritif du 1er août sera offert de 11h à 14h au local de la SSDPG pour vous remercier de votre soutien.\nNous sommes tous bénévoles et donnons de notre temps libre par passion.\nC’est grâce a vous tous que nous pouvons intervenir sur le lac de Neuchâtel 24/24 heures et 365 jours par année
URL:https://www.portalbantourisme.com/event/societe-de-sauvetage-delley-portalban-gletterens-3/
END:VEVENT
BEGIN:VEVENT
DTSTART;TZID=Europe/Paris:20250801T200000
DTEND;TZID=Europe/Paris:20250801T233000
DTSTAMP:20260421T134724
CREATED:20250512T152418Z
LAST-MODIFIED:20250512T152418Z
UID:9859-1754078400-1754091000@www.portalbantourisme.com
SUMMARY:Fête nationale du 1er août à la plage de Portalban
DESCRIPTION:Dès 20h\, partie officielle\, spectacle de flamme\nRestauration\, animations au bord du lac et sous cantine\nOrganisation : Taz Club Project avec le soutien de la Commune de Delley-­Portalban
URL:https://www.portalbantourisme.com/event/fete-nationale-du-1er-aout-a-la-plage-de-portalban-3/
END:VEVENT
BEGIN:VEVENT
DTSTART;TZID=Europe/Paris:20250807T183000
DTEND;TZID=Europe/Paris:20250807T213000
DTSTAMP:20260421T134724
CREATED:20250512T152658Z
LAST-MODIFIED:20250512T152658Z
UID:9867-1754591400-1754602200@www.portalbantourisme.com
SUMMARY:DSTRB – Electro beach
DESCRIPTION:Ambiance électro avec DSTRB à la plage de Portalban\nA la plage de Portalban\nOrganisation : Commission culturelle de la Commune de Delley-­Portalban
URL:https://www.portalbantourisme.com/event/dstrb-electro-beach-3/
END:VEVENT
BEGIN:VEVENT
DTSTART;VALUE=DATE:20250809
DTEND;VALUE=DATE:20250811
DTSTAMP:20260421T134724
CREATED:20250512T152815Z
LAST-MODIFIED:20250512T152815Z
UID:9869-1754697600-1754870399@www.portalbantourisme.com
SUMMARY:CP Lacoboule à la plage de Portalban
DESCRIPTION:Concours « Mémorial Chapuis » en triplettes le samedi et en doublette le dimanche\nRenseignements : www.lacoboule.ch\nCantine avec boissons à proximité
URL:https://www.portalbantourisme.com/event/cp-lacoboule-a-la-plage-de-portalban-8/
END:VEVENT
BEGIN:VEVENT
DTSTART;VALUE=DATE:20250814
DTEND;VALUE=DATE:20250818
DTSTAMP:20260421T134724
CREATED:20250512T152923Z
LAST-MODIFIED:20250512T152923Z
UID:9871-1755129600-1755475199@www.portalbantourisme.com
SUMMARY:PORTAZ Open Air à la plage de Portalban – 4e édition
DESCRIPTION:Au menu de cette année\, le PORTAZ revient\, non pour trois\, mais bien avec quatre jours de festivités ! On se réjouit de vous accueillir à la plage de Portalban pour cette nouvelle édition.\nJeudi\, le festival démarre en puissance avec une soirée 100% rock !\nPour la soirée du vendredi\, place aux beats envoûtants de la house et de la techno.\nSamedi\, la pop vous invitera à chanter et danser.\nPour clôturer le festival\, le nouveau concept Tremplin mettra à l’honneur les talents émergents. Quatre jours\, quatre ambiances !\nVous êtes prêts ? Divers stands de restauration avec des produits frais et locaux. Taz Club Project – www.portaz-openair.ch
URL:https://www.portalbantourisme.com/event/portaz-open-air-a-la-plage-de-portalban-4e-edition/
END:VEVENT
BEGIN:VEVENT
DTSTART;VALUE=DATE:20250816
DTEND;VALUE=DATE:20250817
DTSTAMP:20260421T134724
CREATED:20250512T153000Z
LAST-MODIFIED:20250512T153000Z
UID:9873-1755302400-1755388799@www.portalbantourisme.com
SUMMARY:CP Lacoboule à la plage de Portalban
DESCRIPTION:Traditionnelle journée des schtroumpfs – nous vous invitons à y participer\, possibilité de faire une ou deux parties de pétanque ou de se restaurer. Sourtout n’oublier pas votre bonne humeur\nTous les bénéfices sera versé à l’association Sportive Schtroumpfs Genève
URL:https://www.portalbantourisme.com/event/cp-lacoboule-a-la-plage-de-portalban-9/
END:VEVENT
BEGIN:VEVENT
DTSTART;VALUE=DATE:20250823
DTEND;VALUE=DATE:20250824
DTSTAMP:20260421T134724
CREATED:20250512T153027Z
LAST-MODIFIED:20250512T153027Z
UID:9875-1755907200-1755993599@www.portalbantourisme.com
SUMMARY:Four à pain de Portalban
DESCRIPTION:Vente de gâteaux au four à pain de Portalban\nOrganisation : Les amis du Four à Pain / Portalban Tourisme
URL:https://www.portalbantourisme.com/event/four-a-pain-de-portalban-10/
END:VEVENT
BEGIN:VEVENT
DTSTART;VALUE=DATE:20250824
DTEND;VALUE=DATE:20250825
DTSTAMP:20260421T134724
CREATED:20250512T153100Z
LAST-MODIFIED:20250512T153100Z
UID:9877-1755993600-1756079999@www.portalbantourisme.com
SUMMARY:Village lacustre de Gletterens
DESCRIPTION:Le dimanche 24 août verra la désormais traditionnelle fête de la Préhistoire au village lacustre de Gletterens. Diverses démonstrations\, ateliers\, reconstitutions pour tout public\, bar\, nourriture et belle humeur seront au programme. On pourra fabriquer un couteau néolithique. Le stand de tir accueillera les motivés pour s’essayer à la sagaie et au propulseur. Le reste du village lacustre sera alors dans un bourdonnement d’activités\, de la taille de silex\, de démonstration d’allumage de feu\, de l’art des bronziers etc.\nDans ce cadre magique unique en Suisse\, venez vivre en famille les premiers Ages de l’humanité.\nPour plus de renseignements et réservation : 076 381 12 23
URL:https://www.portalbantourisme.com/event/village-lacustre-de-gletterens-45/
END:VEVENT
END:VCALENDAR