BEGIN:VCALENDAR
VERSION:2.0
PRODID:-//Portalban tourisme – site officiel - ECPv6.0.13.1//NONSGML v1.0//EN
CALSCALE:GREGORIAN
METHOD:PUBLISH
X-ORIGINAL-URL:https://www.portalbantourisme.com
X-WR-CALDESC:évènements pour Portalban tourisme – site officiel
REFRESH-INTERVAL;VALUE=DURATION:PT1H
X-Robots-Tag:noindex
X-PUBLISHED-TTL:PT1H
BEGIN:VTIMEZONE
TZID:Europe/Paris
BEGIN:DAYLIGHT
TZOFFSETFROM:+0100
TZOFFSETTO:+0200
TZNAME:CEST
DTSTART:20250330T010000
END:DAYLIGHT
BEGIN:STANDARD
TZOFFSETFROM:+0200
TZOFFSETTO:+0100
TZNAME:CET
DTSTART:20251026T010000
END:STANDARD
END:VTIMEZONE
BEGIN:VEVENT
DTSTART;VALUE=DATE:20251107
DTEND;VALUE=DATE:20251112
DTSTAMP:20260421T053335
CREATED:20250512T153644Z
LAST-MODIFIED:20250512T153644Z
UID:9894-1762473600-1762905599@www.portalbantourisme.com
SUMMARY:Expo photos – peinture (Pierre-Alain Gogniat\, Hasan Akin\, Robert Bucher)
DESCRIPTION:07.11 : vernissage de 18h à 22h\n08-12.11 : overture de l’exposition de 18h à 20h\nA l’ancienne école de Delley\nOrganisation : Commission culturelle de la Commune de Delley-­Portalban
URL:https://www.portalbantourisme.com/event/expo-photos-peinture-pierre-alain-gogniat-hasan-akin-robert-bucher/
END:VEVENT
BEGIN:VEVENT
DTSTART;TZID=Europe/Paris:20251121T193000
DTEND;TZID=Europe/Paris:20251121T220000
DTSTAMP:20260421T053335
CREATED:20250512T153727Z
LAST-MODIFIED:20250512T153727Z
UID:9896-1763753400-1763762400@www.portalbantourisme.com
SUMMARY:Soirée jeux
DESCRIPTION:Apportez votre jeu préféré ou venez découvrir de nouveaux jeux. Les enfants sont sous la responsabité des parents. Ils doivent être accompagnés jusqu’à 8 ans.\nA l’ancienne école de Delley\nOrganisation : Commission culturelle de la Commune de Delley-­Portalban
URL:https://www.portalbantourisme.com/event/soiree-jeux/
END:VEVENT
BEGIN:VEVENT
DTSTART;TZID=Europe/Paris:20251130T170000
DTEND;TZID=Europe/Paris:20251130T200000
DTSTAMP:20260421T053335
CREATED:20250512T153807Z
LAST-MODIFIED:20250512T153807Z
UID:9898-1764522000-1764532800@www.portalbantourisme.com
SUMMARY:Concert de l’Octuor Contretemps
DESCRIPTION:Fondé en 1998\, l’Octuor fribourgeois Contretemps propose du jazz\, de la chanson française\, des musiques de films\, de la pop\, mais aussi des chants de l’Avent. Avec leur répertoire varié et leur interprétation unique\, ils vous feront voyager à travers les genres musicaux\, tout en vous offrant une expérience sonore inoubliable.\nDès 17h à l’église de Delley\nOrganisation : Commission culturelle de la Commune de Delley-­Portalban
URL:https://www.portalbantourisme.com/event/concert-de-loctuor-contretemps/
END:VEVENT
END:VCALENDAR